BEGIN:VCALENDAR
VERSION:2.0
PRODID:-//Trosa Jakt- och Sportskytteklubb - ECPv6.15.20//NONSGML v1.0//EN
CALSCALE:GREGORIAN
METHOD:PUBLISH
X-WR-CALNAME:Trosa Jakt- och Sportskytteklubb
X-ORIGINAL-URL:https://trosaskytte.se
X-WR-CALDESC:Händelser för Trosa Jakt- och Sportskytteklubb
REFRESH-INTERVAL;VALUE=DURATION:PT1H
X-Robots-Tag:noindex
X-PUBLISHED-TTL:PT1H
BEGIN:VTIMEZONE
TZID:Europe/Stockholm
BEGIN:DAYLIGHT
TZOFFSETFROM:+0100
TZOFFSETTO:+0200
TZNAME:CEST
DTSTART:20250330T010000
END:DAYLIGHT
BEGIN:STANDARD
TZOFFSETFROM:+0200
TZOFFSETTO:+0100
TZNAME:CET
DTSTART:20251026T010000
END:STANDARD
BEGIN:DAYLIGHT
TZOFFSETFROM:+0100
TZOFFSETTO:+0200
TZNAME:CEST
DTSTART:20260329T010000
END:DAYLIGHT
BEGIN:STANDARD
TZOFFSETFROM:+0200
TZOFFSETTO:+0100
TZNAME:CET
DTSTART:20261025T010000
END:STANDARD
BEGIN:DAYLIGHT
TZOFFSETFROM:+0100
TZOFFSETTO:+0200
TZNAME:CEST
DTSTART:20270328T010000
END:DAYLIGHT
BEGIN:STANDARD
TZOFFSETFROM:+0200
TZOFFSETTO:+0100
TZNAME:CET
DTSTART:20271031T010000
END:STANDARD
END:VTIMEZONE
BEGIN:VEVENT
DTSTART;TZID=Europe/Stockholm:20260530T090000
DTEND;TZID=Europe/Stockholm:20260530T130000
DTSTAMP:20260421T003755
CREATED:20260313T114345Z
LAST-MODIFIED:20260313T114345Z
UID:1934-1780131600-1780146000@trosaskytte.se
SUMMARY:Allmän Träning 30/5
DESCRIPTION:Skeet \nTrap \nSporting
URL:https://trosaskytte.se/kalender/allman-traning-30-5/
LOCATION:Trosa Jakt- och sportskytteklubb\, Trosa\, 61074\, Sverige
END:VEVENT
BEGIN:VEVENT
DTSTART;TZID=Europe/Stockholm:20260530T130000
DTEND;TZID=Europe/Stockholm:20260530T170000
DTSTAMP:20260421T003755
CREATED:20260224T165823Z
LAST-MODIFIED:20260224T165823Z
UID:1904-1780146000-1780160400@trosaskytte.se
SUMMARY:banan abonnerad
DESCRIPTION:
URL:https://trosaskytte.se/kalender/banan-abonnerad-5/
LOCATION:Trosa Jakt- och sportskytteklubb\, Trosa\, 61074\, Sverige
CATEGORIES:Abonnerad
END:VEVENT
END:VCALENDAR