BEGIN:VCALENDAR
VERSION:2.0
PRODID:-//Trosa Jakt- och Sportskytteklubb - ECPv6.15.20//NONSGML v1.0//EN
CALSCALE:GREGORIAN
METHOD:PUBLISH
X-WR-CALNAME:Trosa Jakt- och Sportskytteklubb
X-ORIGINAL-URL:https://trosaskytte.se
X-WR-CALDESC:Händelser för Trosa Jakt- och Sportskytteklubb
REFRESH-INTERVAL;VALUE=DURATION:PT1H
X-Robots-Tag:noindex
X-PUBLISHED-TTL:PT1H
BEGIN:VTIMEZONE
TZID:Europe/Stockholm
BEGIN:DAYLIGHT
TZOFFSETFROM:+0100
TZOFFSETTO:+0200
TZNAME:CEST
DTSTART:20250330T010000
END:DAYLIGHT
BEGIN:STANDARD
TZOFFSETFROM:+0200
TZOFFSETTO:+0100
TZNAME:CET
DTSTART:20251026T010000
END:STANDARD
BEGIN:DAYLIGHT
TZOFFSETFROM:+0100
TZOFFSETTO:+0200
TZNAME:CEST
DTSTART:20260329T010000
END:DAYLIGHT
BEGIN:STANDARD
TZOFFSETFROM:+0200
TZOFFSETTO:+0100
TZNAME:CET
DTSTART:20261025T010000
END:STANDARD
BEGIN:DAYLIGHT
TZOFFSETFROM:+0100
TZOFFSETTO:+0200
TZNAME:CEST
DTSTART:20270328T010000
END:DAYLIGHT
BEGIN:STANDARD
TZOFFSETFROM:+0200
TZOFFSETTO:+0100
TZNAME:CET
DTSTART:20271031T010000
END:STANDARD
END:VTIMEZONE
BEGIN:VEVENT
DTSTART;TZID=Europe/Stockholm:20260801T130000
DTEND;TZID=Europe/Stockholm:20260801T160000
DTSTAMP:20260420T221404
CREATED:20260316T121112Z
LAST-MODIFIED:20260316T121112Z
UID:1949-1785589200-1785600000@trosaskytte.se
SUMMARY:Träning inför KM i Jaktskytte
DESCRIPTION:Älgbana\, rådjursfigur \ninskjutning stängd
URL:https://trosaskytte.se/kalender/traning-infor-km-i-jaktskytte/
LOCATION:Trosa Jakt- och sportskytteklubb\, Trosa\, 61074\, Sverige
CATEGORIES:Allmän skytte träning
END:VEVENT
BEGIN:VEVENT
DTSTART;TZID=Europe/Stockholm:20260805T173000
DTEND;TZID=Europe/Stockholm:20260805T200000
DTSTAMP:20260420T221404
CREATED:20260316T121926Z
LAST-MODIFIED:20260316T121926Z
UID:1967-1785951000-1785960000@trosaskytte.se
SUMMARY:Älgbana 5/8
DESCRIPTION:Älgbana
URL:https://trosaskytte.se/kalender/algbana-5-8/
LOCATION:Trosa Jakt- och sportskytteklubb\, Trosa\, 61074\, Sverige
CATEGORIES:Allmän skytte träning
END:VEVENT
BEGIN:VEVENT
DTSTART;TZID=Europe/Stockholm:20260806T173000
DTEND;TZID=Europe/Stockholm:20260806T200000
DTSTAMP:20260420T221404
CREATED:20260316T122300Z
LAST-MODIFIED:20260316T122300Z
UID:1975-1786037400-1786046400@trosaskytte.se
SUMMARY:Björnpass 6/8
DESCRIPTION:Björnpass \ninskjutning stängd
URL:https://trosaskytte.se/kalender/bjornpass-6-8/
LOCATION:Trosa Jakt- och sportskytteklubb\, Trosa\, 61074\, Sverige
CATEGORIES:Allmän skytte träning
END:VEVENT
BEGIN:VEVENT
DTSTART;TZID=Europe/Stockholm:20260808T090000
DTEND;TZID=Europe/Stockholm:20260808T130000
DTSTAMP:20260420T221404
CREATED:20260316T121214Z
LAST-MODIFIED:20260316T121214Z
UID:1951-1786179600-1786194000@trosaskytte.se
SUMMARY:Allmän träning 8/8
DESCRIPTION:Skeet \nTrap \nSporting \nÄlgbana
URL:https://trosaskytte.se/kalender/allman-traning-8-8/
CATEGORIES:Allmän skytte träning
END:VEVENT
BEGIN:VEVENT
DTSTART;TZID=Europe/Stockholm:20260812T173000
DTEND;TZID=Europe/Stockholm:20260812T200000
DTSTAMP:20260420T221404
CREATED:20260316T122015Z
LAST-MODIFIED:20260316T122015Z
UID:1969-1786555800-1786564800@trosaskytte.se
SUMMARY:Älgbana 12/8
DESCRIPTION:älgbana
URL:https://trosaskytte.se/kalender/algbana-12-8/
LOCATION:Trosa Jakt- och sportskytteklubb\, Trosa\, 61074\, Sverige
CATEGORIES:Allmän skytte träning
END:VEVENT
BEGIN:VEVENT
DTSTART;TZID=Europe/Stockholm:20260815T090000
DTEND;TZID=Europe/Stockholm:20260815T130000
DTSTAMP:20260420T221404
CREATED:20260316T121259Z
LAST-MODIFIED:20260316T121259Z
UID:1953-1786784400-1786798800@trosaskytte.se
SUMMARY:Allmän träning 15/8
DESCRIPTION:Skeet \nTrap \nSporting \nÄlgbana
URL:https://trosaskytte.se/kalender/allman-traning-15-8/
LOCATION:Trosa Jakt- och sportskytteklubb\, Trosa\, 61074\, Sverige
CATEGORIES:Allmän skytte träning
END:VEVENT
BEGIN:VEVENT
DTSTART;TZID=Europe/Stockholm:20260819T173000
DTEND;TZID=Europe/Stockholm:20260819T200000
DTSTAMP:20260420T221404
CREATED:20260316T122059Z
LAST-MODIFIED:20260316T122059Z
UID:1971-1787160600-1787169600@trosaskytte.se
SUMMARY:Älgbana 19/8
DESCRIPTION:Älgbana
URL:https://trosaskytte.se/kalender/algbana-19-8/
LOCATION:Trosa Jakt- och sportskytteklubb\, Trosa\, 61074\, Sverige
CATEGORIES:Allmän skytte träning
END:VEVENT
BEGIN:VEVENT
DTSTART;TZID=Europe/Stockholm:20260822T090000
DTEND;TZID=Europe/Stockholm:20260822T130000
DTSTAMP:20260420T221404
CREATED:20260316T121359Z
LAST-MODIFIED:20260316T121359Z
UID:1955-1787389200-1787403600@trosaskytte.se
SUMMARY:Allmän träning 22/8
DESCRIPTION:Skeet \nTrap \nSporting \nÄlgbana
URL:https://trosaskytte.se/kalender/allman-traning-22-8/
LOCATION:Trosa Jakt- och sportskytteklubb\, Trosa\, 61074\, Sverige
CATEGORIES:Allmän skytte träning
END:VEVENT
BEGIN:VEVENT
DTSTART;TZID=Europe/Stockholm:20260826T173000
DTEND;TZID=Europe/Stockholm:20260826T200000
DTSTAMP:20260420T221404
CREATED:20260316T122148Z
LAST-MODIFIED:20260316T122148Z
UID:1973-1787765400-1787774400@trosaskytte.se
SUMMARY:Älgbana 26/8
DESCRIPTION:Älgbana
URL:https://trosaskytte.se/kalender/algbana-26-8/
LOCATION:Trosa Jakt- och sportskytteklubb\, Trosa\, 61074\, Sverige
CATEGORIES:Allmän skytte träning
END:VEVENT
BEGIN:VEVENT
DTSTART;TZID=Europe/Stockholm:20260829T090000
DTEND;TZID=Europe/Stockholm:20260829T130000
DTSTAMP:20260420T221404
CREATED:20260316T121449Z
LAST-MODIFIED:20260316T121449Z
UID:1957-1787994000-1788008400@trosaskytte.se
SUMMARY:Allmän träning 29/8
DESCRIPTION:Skeet \nTrap \nSporting \nÄlgbana
URL:https://trosaskytte.se/kalender/allman-traning-29-8/
LOCATION:Trosa Jakt- och sportskytteklubb\, Trosa\, 61074\, Sverige
CATEGORIES:Allmän skytte träning
END:VEVENT
END:VCALENDAR