BEGIN:VCALENDAR
VERSION:2.0
PRODID:-//Trosa Jakt- och Sportskytteklubb - ECPv6.15.20//NONSGML v1.0//EN
CALSCALE:GREGORIAN
METHOD:PUBLISH
X-ORIGINAL-URL:https://trosaskytte.se
X-WR-CALDESC:Händelser för Trosa Jakt- och Sportskytteklubb
REFRESH-INTERVAL;VALUE=DURATION:PT1H
X-Robots-Tag:noindex
X-PUBLISHED-TTL:PT1H
BEGIN:VTIMEZONE
TZID:Europe/Stockholm
BEGIN:DAYLIGHT
TZOFFSETFROM:+0100
TZOFFSETTO:+0200
TZNAME:CEST
DTSTART:20250330T010000
END:DAYLIGHT
BEGIN:STANDARD
TZOFFSETFROM:+0200
TZOFFSETTO:+0100
TZNAME:CET
DTSTART:20251026T010000
END:STANDARD
BEGIN:DAYLIGHT
TZOFFSETFROM:+0100
TZOFFSETTO:+0200
TZNAME:CEST
DTSTART:20260329T010000
END:DAYLIGHT
BEGIN:STANDARD
TZOFFSETFROM:+0200
TZOFFSETTO:+0100
TZNAME:CET
DTSTART:20261025T010000
END:STANDARD
BEGIN:DAYLIGHT
TZOFFSETFROM:+0100
TZOFFSETTO:+0200
TZNAME:CEST
DTSTART:20270328T010000
END:DAYLIGHT
BEGIN:STANDARD
TZOFFSETFROM:+0200
TZOFFSETTO:+0100
TZNAME:CET
DTSTART:20271031T010000
END:STANDARD
END:VTIMEZONE
BEGIN:VEVENT
DTSTART;TZID=Europe/Stockholm:20260801T130000
DTEND;TZID=Europe/Stockholm:20260801T160000
DTSTAMP:20260420T222336
CREATED:20260316T121112Z
LAST-MODIFIED:20260316T121112Z
UID:1949-1785589200-1785600000@trosaskytte.se
SUMMARY:Träning inför KM i Jaktskytte
DESCRIPTION:Älgbana\, rådjursfigur \ninskjutning stängd
URL:https://trosaskytte.se/kalender/traning-infor-km-i-jaktskytte/
LOCATION:Trosa Jakt- och sportskytteklubb\, Trosa\, 61074\, Sverige
CATEGORIES:Allmän skytte träning
END:VEVENT
END:VCALENDAR