BEGIN:VCALENDAR
VERSION:2.0
PRODID:-//Trosa Jakt- och Sportskytteklubb - ECPv6.15.20//NONSGML v1.0//EN
CALSCALE:GREGORIAN
METHOD:PUBLISH
X-ORIGINAL-URL:https://trosaskytte.se
X-WR-CALDESC:Händelser för Trosa Jakt- och Sportskytteklubb
REFRESH-INTERVAL;VALUE=DURATION:PT1H
X-Robots-Tag:noindex
X-PUBLISHED-TTL:PT1H
BEGIN:VTIMEZONE
TZID:Europe/Stockholm
BEGIN:DAYLIGHT
TZOFFSETFROM:+0100
TZOFFSETTO:+0200
TZNAME:CEST
DTSTART:20250330T010000
END:DAYLIGHT
BEGIN:STANDARD
TZOFFSETFROM:+0200
TZOFFSETTO:+0100
TZNAME:CET
DTSTART:20251026T010000
END:STANDARD
BEGIN:DAYLIGHT
TZOFFSETFROM:+0100
TZOFFSETTO:+0200
TZNAME:CEST
DTSTART:20260329T010000
END:DAYLIGHT
BEGIN:STANDARD
TZOFFSETFROM:+0200
TZOFFSETTO:+0100
TZNAME:CET
DTSTART:20261025T010000
END:STANDARD
BEGIN:DAYLIGHT
TZOFFSETFROM:+0100
TZOFFSETTO:+0200
TZNAME:CEST
DTSTART:20270328T010000
END:DAYLIGHT
BEGIN:STANDARD
TZOFFSETFROM:+0200
TZOFFSETTO:+0100
TZNAME:CET
DTSTART:20271031T010000
END:STANDARD
END:VTIMEZONE
BEGIN:VEVENT
DTSTART;TZID=Europe/Stockholm:20260905T083000
DTEND;TZID=Europe/Stockholm:20260905T130000
DTSTAMP:20260421T035347
CREATED:20260316T121543Z
LAST-MODIFIED:20260316T121543Z
UID:1959-1788597000-1788613200@trosaskytte.se
SUMMARY:Allmän träning 5/9
DESCRIPTION:Skeet \nTrap \nSporting \nÄlgbana
URL:https://trosaskytte.se/kalender/allman-traning-5-9/
LOCATION:Trosa Jakt- och sportskytteklubb\, Trosa\, 61074\, Sverige
CATEGORIES:Allmän skytte träning
END:VEVENT
END:VCALENDAR