BEGIN:VCALENDAR
VERSION:2.0
PRODID:-//Trosa Jakt- och Sportskytteklubb - ECPv6.15.20//NONSGML v1.0//EN
CALSCALE:GREGORIAN
METHOD:PUBLISH
X-WR-CALNAME:Trosa Jakt- och Sportskytteklubb
X-ORIGINAL-URL:https://trosaskytte.se
X-WR-CALDESC:Händelser för Trosa Jakt- och Sportskytteklubb
REFRESH-INTERVAL;VALUE=DURATION:PT1H
X-Robots-Tag:noindex
X-PUBLISHED-TTL:PT1H
BEGIN:VTIMEZONE
TZID:Europe/Stockholm
BEGIN:DAYLIGHT
TZOFFSETFROM:+0100
TZOFFSETTO:+0200
TZNAME:CEST
DTSTART:20250330T010000
END:DAYLIGHT
BEGIN:STANDARD
TZOFFSETFROM:+0200
TZOFFSETTO:+0100
TZNAME:CET
DTSTART:20251026T010000
END:STANDARD
BEGIN:DAYLIGHT
TZOFFSETFROM:+0100
TZOFFSETTO:+0200
TZNAME:CEST
DTSTART:20260329T010000
END:DAYLIGHT
BEGIN:STANDARD
TZOFFSETFROM:+0200
TZOFFSETTO:+0100
TZNAME:CET
DTSTART:20261025T010000
END:STANDARD
BEGIN:DAYLIGHT
TZOFFSETFROM:+0100
TZOFFSETTO:+0200
TZNAME:CEST
DTSTART:20270328T010000
END:DAYLIGHT
BEGIN:STANDARD
TZOFFSETFROM:+0200
TZOFFSETTO:+0100
TZNAME:CET
DTSTART:20271031T010000
END:STANDARD
END:VTIMEZONE
BEGIN:VEVENT
DTSTART;TZID=Europe/Stockholm:20260502T090000
DTEND;TZID=Europe/Stockholm:20260502T130000
DTSTAMP:20260420T194742
CREATED:20260313T114008Z
LAST-MODIFIED:20260313T114008Z
UID:1926-1777712400-1777726800@trosaskytte.se
SUMMARY:Allmän Träning 2/5
DESCRIPTION:Skeet \nTrap \nSporting
URL:https://trosaskytte.se/kalender/allman-traning-2-5/
LOCATION:Trosa Jakt- och sportskytteklubb\, Trosa\, 61074\, Sverige
END:VEVENT
BEGIN:VEVENT
DTSTART;TZID=Europe/Stockholm:20260509T090000
DTEND;TZID=Europe/Stockholm:20260509T130000
DTSTAMP:20260420T194742
CREATED:20260313T114102Z
LAST-MODIFIED:20260313T114102Z
UID:1928-1778317200-1778331600@trosaskytte.se
SUMMARY:Allmän Träning 9/5
DESCRIPTION:Skeet \nTrap \nSporting \nGrispass \nInskjutning stängd
URL:https://trosaskytte.se/kalender/allman-traning-9-5/
LOCATION:Trosa Jakt- och sportskytteklubb\, Trosa\, 61074\, Sverige
END:VEVENT
BEGIN:VEVENT
DTSTART;VALUE=DATE:20260516
DTEND;VALUE=DATE:20260518
DTSTAMP:20260420T194742
CREATED:20251218T152326Z
LAST-MODIFIED:20251218T152326Z
UID:1881-1778889600-1779062399@trosaskytte.se
SUMMARY:Walter Borgs Jägarexamen
DESCRIPTION:Jägarexamen i samarbete med Walter Borg. \nAnmälan via Walter Borg \nhttps://www.walterborg.se/product.html/skyttekurs
URL:https://trosaskytte.se/kalender/walter-borgs-jagarexamen-10/
LOCATION:Trosa Jakt- och sportskytteklubb\, Trosa\, 61074\, Sverige
CATEGORIES:Walter Borg Jägarexamen
END:VEVENT
BEGIN:VEVENT
DTSTART;TZID=Europe/Stockholm:20260516T090000
DTEND;TZID=Europe/Stockholm:20260516T130000
DTSTAMP:20260420T194742
CREATED:20260313T114202Z
LAST-MODIFIED:20260313T114202Z
UID:1930-1778922000-1778936400@trosaskytte.se
SUMMARY:Allmän Träning 16/5
DESCRIPTION:Skeet \nTrap \nSporting \ninskjutning stängd
URL:https://trosaskytte.se/kalender/allman-traning-16-5/
END:VEVENT
BEGIN:VEVENT
DTSTART;TZID=Europe/Stockholm:20260523T090000
DTEND;TZID=Europe/Stockholm:20260523T130000
DTSTAMP:20260420T194742
CREATED:20260313T114247Z
LAST-MODIFIED:20260313T114247Z
UID:1932-1779526800-1779541200@trosaskytte.se
SUMMARY:Allmän Träning 23/5
DESCRIPTION:Skeet \nTrap \nSporting \nÄlgbana
URL:https://trosaskytte.se/kalender/allman-traning-23-5/
LOCATION:Trosa Jakt- och sportskytteklubb\, Trosa\, 61074\, Sverige
END:VEVENT
BEGIN:VEVENT
DTSTART;TZID=Europe/Stockholm:20260530T090000
DTEND;TZID=Europe/Stockholm:20260530T130000
DTSTAMP:20260420T194742
CREATED:20260313T114345Z
LAST-MODIFIED:20260313T114345Z
UID:1934-1780131600-1780146000@trosaskytte.se
SUMMARY:Allmän Träning 30/5
DESCRIPTION:Skeet \nTrap \nSporting
URL:https://trosaskytte.se/kalender/allman-traning-30-5/
LOCATION:Trosa Jakt- och sportskytteklubb\, Trosa\, 61074\, Sverige
END:VEVENT
BEGIN:VEVENT
DTSTART;TZID=Europe/Stockholm:20260530T130000
DTEND;TZID=Europe/Stockholm:20260530T170000
DTSTAMP:20260420T194742
CREATED:20260224T165823Z
LAST-MODIFIED:20260224T165823Z
UID:1904-1780146000-1780160400@trosaskytte.se
SUMMARY:banan abonnerad
DESCRIPTION:
URL:https://trosaskytte.se/kalender/banan-abonnerad-5/
LOCATION:Trosa Jakt- och sportskytteklubb\, Trosa\, 61074\, Sverige
CATEGORIES:Abonnerad
END:VEVENT
BEGIN:VEVENT
DTSTART;TZID=Europe/Stockholm:20260531T090000
DTEND;TZID=Europe/Stockholm:20260531T170000
DTSTAMP:20260420T194742
CREATED:20260331T085959Z
LAST-MODIFIED:20260331T085959Z
UID:1981-1780218000-1780246800@trosaskytte.se
SUMMARY:JRF Handladdningskurs klubbhus och inskjutningen bokad
DESCRIPTION:JRF Handladdningskurs klubbhus och inskjutningen bokad
URL:https://trosaskytte.se/kalender/jrf-handladdningskurs-klubbhus-och-inskjutningen-bokad/
LOCATION:Trosa Jakt- och sportskytteklubb\, Trosa\, 61074\, Sverige
CATEGORIES:Abonnerad
END:VEVENT
END:VCALENDAR