BEGIN:VCALENDAR
VERSION:2.0
PRODID:-//Trosa Jakt- och Sportskytteklubb - ECPv6.15.20//NONSGML v1.0//EN
CALSCALE:GREGORIAN
METHOD:PUBLISH
X-ORIGINAL-URL:https://trosaskytte.se
X-WR-CALDESC:Händelser för Trosa Jakt- och Sportskytteklubb
REFRESH-INTERVAL;VALUE=DURATION:PT1H
X-Robots-Tag:noindex
X-PUBLISHED-TTL:PT1H
BEGIN:VTIMEZONE
TZID:Europe/Stockholm
BEGIN:DAYLIGHT
TZOFFSETFROM:+0100
TZOFFSETTO:+0200
TZNAME:CEST
DTSTART:20250330T010000
END:DAYLIGHT
BEGIN:STANDARD
TZOFFSETFROM:+0200
TZOFFSETTO:+0100
TZNAME:CET
DTSTART:20251026T010000
END:STANDARD
BEGIN:DAYLIGHT
TZOFFSETFROM:+0100
TZOFFSETTO:+0200
TZNAME:CEST
DTSTART:20260329T010000
END:DAYLIGHT
BEGIN:STANDARD
TZOFFSETFROM:+0200
TZOFFSETTO:+0100
TZNAME:CET
DTSTART:20261025T010000
END:STANDARD
BEGIN:DAYLIGHT
TZOFFSETFROM:+0100
TZOFFSETTO:+0200
TZNAME:CEST
DTSTART:20270328T010000
END:DAYLIGHT
BEGIN:STANDARD
TZOFFSETFROM:+0200
TZOFFSETTO:+0100
TZNAME:CET
DTSTART:20271031T010000
END:STANDARD
END:VTIMEZONE
BEGIN:VEVENT
DTSTART;TZID=Europe/Stockholm:20260606T090000
DTEND;TZID=Europe/Stockholm:20260606T130000
DTSTAMP:20260421T005642
CREATED:20260313T114428Z
LAST-MODIFIED:20260313T114428Z
UID:1936-1780736400-1780750800@trosaskytte.se
SUMMARY:Allmän Träning 6/6
DESCRIPTION:Trap \nSkeet \nSporting
URL:https://trosaskytte.se/kalender/allman-traning-6-6/
LOCATION:Trosa Jakt- och sportskytteklubb\, Trosa\, 61074\, Sverige
END:VEVENT
BEGIN:VEVENT
DTSTART;VALUE=DATE:20260613
DTEND;VALUE=DATE:20260615
DTSTAMP:20260421T005642
CREATED:20251218T152358Z
LAST-MODIFIED:20251218T152358Z
UID:1883-1781308800-1781481599@trosaskytte.se
SUMMARY:Walter Borgs Jägarexamen
DESCRIPTION:Jägarexamen i samarbete med Walter Borg. \nAnmälan via Walter Borg \nhttps://www.walterborg.se/product.html/skyttekurs
URL:https://trosaskytte.se/kalender/walter-borgs-jagarexamen-11/
LOCATION:Trosa Jakt- och sportskytteklubb\, Trosa\, 61074\, Sverige
CATEGORIES:Walter Borg Jägarexamen
END:VEVENT
BEGIN:VEVENT
DTSTART;TZID=Europe/Stockholm:20260613T090000
DTEND;TZID=Europe/Stockholm:20260613T130000
DTSTAMP:20260421T005642
CREATED:20260313T114522Z
LAST-MODIFIED:20260313T114522Z
UID:1938-1781341200-1781355600@trosaskytte.se
SUMMARY:Allmän Träning 13/6
DESCRIPTION:Skeet \nTrap \nSporting \nÄlgbana \nInskjutningen stängd
URL:https://trosaskytte.se/kalender/allman-traning-13-6/
LOCATION:Trosa Jakt- och sportskytteklubb\, Trosa\, 61074\, Sverige
END:VEVENT
BEGIN:VEVENT
DTSTART;TZID=Europe/Stockholm:20260627T090000
DTEND;TZID=Europe/Stockholm:20260627T130000
DTSTAMP:20260421T005642
CREATED:20260316T114919Z
LAST-MODIFIED:20260316T114919Z
UID:1940-1782550800-1782565200@trosaskytte.se
SUMMARY:Allmän träning 27/6
DESCRIPTION:Skeet \nTrpa \nSporting \nGrispass \nInskjutning stängd
URL:https://trosaskytte.se/kalender/allman-traning-27-6/
LOCATION:Trosa Jakt- och sportskytteklubb\, Trosa\, 61074\, Sverige
END:VEVENT
END:VCALENDAR